BEGIN:VCALENDAR
VERSION:2.0
PRODID:-//VCUarts Qatar - ECPv6.15.20//NONSGML v1.0//EN
CALSCALE:GREGORIAN
METHOD:PUBLISH
X-WR-CALNAME:VCUarts Qatar
X-ORIGINAL-URL:https://qatar.vcu.edu
X-WR-CALDESC:Events for VCUarts Qatar
REFRESH-INTERVAL;VALUE=DURATION:PT1H
X-Robots-Tag:noindex
X-PUBLISHED-TTL:PT1H
BEGIN:VTIMEZONE
TZID:Asia/Qatar
BEGIN:STANDARD
TZOFFSETFROM:+0300
TZOFFSETTO:+0300
TZNAME:+03
DTSTART:20250101T000000
END:STANDARD
END:VTIMEZONE
BEGIN:VEVENT
DTSTART;VALUE=DATE:20260601
DTEND;VALUE=DATE:20261123
DTSTAMP:20260421T184743
CREATED:20260420T084615Z
LAST-MODIFIED:20260421T080424Z
UID:10000731-1780272000-1795391999@qatar.vcu.edu
SUMMARY:VCUarts Qatar at La Biennale di Venezia 2026
DESCRIPTION:VCUarts Qatar is proud to present أغرب إدراك | Aghrab Idrāk: Thresholds of Perception\, an official Collateral Event of the 61st International Art Exhibition – La Biennale di Venezia (May 9–November 22\, 2026)\, on view from June 1\, 2026 at Palazzo Cavanis at the Zattere in Venice. \nBringing together projects from ten research labs within the Institute for Creative Research\, the exhibition invites visitors to explore perception as a relational and situated way of knowing. Through environments shaped by light\, sound\, movement\, and material presence\, visitors move through a sequence of spatial thresholds where meaning emerges through experience\, proximity\, and dialogue. \nThe works offer a unique reflection of the Gulf region’s histories of exchange\, mobility\, and layered cultural memory\, while highlighting the collective\, research-driven practices that shape creative inquiry at VCUarts Qatar. \nAn inaugural event will take place on June 22 from 6–8 p.m. \nThe program will also include the symposium\, Relational Ecologies: Perception\, Mobility\, and Collective Form\, taking place June 23–24\, 2026\, a gathering of creative minds that extends the exhibition’s themes through conversations on how artistic research generates knowledge through connection\, exchange\, and collective practice. \n  \n\n  \nأغرب إدراك | Aghrab Idrāk: Thresholds of Perception\nExhibition: June 1–November 22\, 2026 \nOpening Hours:\nTuesday–Sunday: 10 a.m.–6 p.m.\nMondays: Closed\, except June 1\, June 22\, Sept. 7 and Nov. 16 \nInaugural event: June 22\, 6–8 p.m. \nLocation: Palazzo Cavanis at the Zattere \n  \nRelational Ecologies: Perception\, Mobility\, and Collective Form Symposium\nJune 23–24\, 2026  \nJune 23\n1–4 p.m.\nBiennale Sessions\, Arsenale Educational Space\, Venice \nJune 24\n10 a.m.–4 p.m.\nThe Home of The Human Safety Net\, Venice \n 
URL:https://qatar.vcu.edu/event/vcuarts-qatar-at-la-biennale-di-venezia-2026/
CATEGORIES:International Event
ATTACH;FMTTYPE=image/jpeg:https://qatar.vcu.edu/wp-content/uploads/2026/02/martin-katler-MDZAbQApcKY-unsplash-scaled.jpg
END:VEVENT
END:VCALENDAR